BEGIN:VCALENDAR
VERSION:2.0
PRODID:-//Squarespace Inc/Squarespace 6//v6//EN
BEGIN:VEVENT
UID:5923d3c917bffcd27081a1cd@squarespace.com
DTSTAMP:20170613T063434Z
DTSTART:20170629T090000Z
DTEND:20170629T110000Z
SUMMARY:"Baby Ready" ante–natal workshop
GEO:-37.815203;144.986371
LOCATION:East Melbourne Library\, 122 George Street\, East Melbourne\, VIC\
 , 3002\, Australia
END:VEVENT
END:VCALENDAR
