BEGIN:VCALENDAR
VERSION:2.0
PRODID:-//Squarespace Inc/Squarespace 6//v6//EN
BEGIN:VEVENT
UID:593debed3e00be288f7832c6@squarespace.com
DTSTAMP:20171025T223429Z
DTSTART:20171027T231500Z
DTEND:20171028T014500Z
SUMMARY:"Baby Ready" ante–natal workshop*
GEO:-37.784536;144.98294
LOCATION:Bargoonga Nganjin North Fitzroy Library\, 186 Saint Georges Road\, 
 Fitzroy North\, VIC\, 3068\, Australia
END:VEVENT
END:VCALENDAR
