BEGIN:VCALENDAR
VERSION:2.0
PRODID:-//Squarespace Inc/Squarespace 6//v6//EN
BEGIN:VEVENT
UID:59e40d580abd0479b9b6f944@squarespace.com
DTSTAMP:20180204T055115Z
DTSTART:20180421T003000Z
DTEND:20180421T023000Z
SUMMARY:"Baby Go" baby development workshop (7–10 months)* 21 April 2018
GEO:-37.784536;144.98294
LOCATION:Bargoonga Nganjin North Fitzroy Library\, 186 Saint Georges Road\, 
 Fitzroy North\, VIC\, 3068\, Australia
END:VEVENT
END:VCALENDAR
