BEGIN:VCALENDAR
VERSION:2.0
PRODID:-//Squarespace Inc/Squarespace 6//v6//EN
BEGIN:VEVENT
UID:5a769f53c830259c53bc7f1a@squarespace.com
DTSTAMP:20190125T011937Z
DTSTART:20180908T003000Z
DTEND:20180908T023000Z
SUMMARY:"Baby Go" baby development workshop (7–10 months)* 8 Sept 2018
GEO:-37.784536;144.98294
LOCATION:Bargoonga Nganjin North Fitzroy Library\, 186 Saint Georges Road\, 
 Fitzroy North\, VIC\, 3068\, Australia
END:VEVENT
END:VCALENDAR
