BEGIN:VCALENDAR
VERSION:2.0
PRODID:-//Squarespace Inc/Squarespace 6//v6//EN
BEGIN:VEVENT
UID:5c4a6429cd83665c67379efb@squarespace.com
DTSTAMP:20190421T155430Z
DTSTART:20190301T233000Z
DTEND:20190302T013000Z
SUMMARY:"Baby Go" baby development workshop (7–10 months)* 2 Mar 2019
GEO:-37.784536;144.98294
LOCATION:Bargoonga Nganjin North Fitzroy Library\, 186 Saint Georges Road\, 
 Fitzroy North\, VIC\, 3068\, Australia
END:VEVENT
END:VCALENDAR
