BEGIN:VCALENDAR
VERSION:2.0
PRODID:-//Squarespace Inc/Squarespace 6//v6//EN
BEGIN:VEVENT
UID:5cbc92371905f4de32531aca@squarespace.com
DTSTAMP:20190425T142015Z
DTSTART:20190622T003000Z
DTEND:20190622T023000Z
SUMMARY:"Baby Go" baby development workshop (~7 to 10 months)* 22 June 2019
GEO:-37.784536;144.98294
LOCATION:Bargoonga Nganjin North Fitzroy Library\, 186 Saint Georges Road\, 
 Fitzroy North\, VIC\, 3068\, Australia
END:VEVENT
END:VCALENDAR
