BEGIN:VCALENDAR
VERSION:2.0
PRODID:-//Squarespace Inc/Squarespace 6//v6//EN
BEGIN:VEVENT
UID:5cbc9309f4e1fc4307fff8dd@squarespace.com
DTSTAMP:20190425T142134Z
DTSTART:20191018T233000Z
DTEND:20191019T013000Z
SUMMARY: "Baby Go" baby development workshop (~7 to 10 months)* 19 Oct 2019
GEO:-37.784536;144.98294
LOCATION:Bargoonga Nganjin North Fitzroy Library\, 186 Saint Georges Road\, 
 Fitzroy North\, VIC\, 3068\, Australia
END:VEVENT
END:VCALENDAR
