BEGIN:VCALENDAR
VERSION:2.0
PRODID:-//Squarespace Inc/Squarespace 6//v6//EN
BEGIN:VEVENT
UID:5a1793da53450a9c54eb1796@squarespace.com
DTSTAMP:20171124T033929Z
DTSTART:20171215T231500Z
DTEND:20171216T014500Z
SUMMARY:"Baby Ready" ante–natal workshop*
GEO:-37.784536;144.98294
LOCATION:Bargoonga Nganjin North Fitzroy Library\, 186 Saint Georges Road\, 
 Fitzroy North\, VIC\, 3068\, Australia
END:VEVENT
END:VCALENDAR
