BEGIN:VCALENDAR
VERSION:2.0
PRODID:-//Squarespace Inc/Squarespace 6//v6//EN
BEGIN:VEVENT
UID:5a33ab72ec212d3032d26a72@squarespace.com
DTSTAMP:20171218T122159Z
DTSTART:20180202T231500Z
DTEND:20180203T014500Z
SUMMARY:"Baby Ready" ante–natal workshop* 3 Feb 2018
GEO:-37.784536;144.98294
LOCATION:Bargoonga Nganjin North Fitzroy Library\, 186 Saint Georges Road\, 
 Fitzroy North\, VIC\, 3068\, Australia
END:VEVENT
END:VCALENDAR
