BEGIN:VCALENDAR
VERSION:2.0
PRODID:-//Squarespace Inc/Squarespace 6//v6//EN
BEGIN:VEVENT
UID:5a769dc5e2c4831a619dd9f0@squarespace.com
DTSTAMP:20180514T031801Z
DTSTART:20180526T003000Z
DTEND:20180526T023000Z
SUMMARY:"Baby Ready" ante–natal workshop* 26 May 2018
GEO:-37.784536;144.98294
LOCATION:Bargoonga Nganjin North Fitzroy Library\, 186 Saint Georges Road\, 
 Fitzroy North\, VIC\, 3068\, Australia
END:VEVENT
END:VCALENDAR
