BEGIN:VCALENDAR
VERSION:2.0
PRODID:-//Squarespace Inc/Squarespace 6//v6//EN
BEGIN:VEVENT
UID:5a76a01053450ac909522484@squarespace.com
DTSTAMP:20190125T005139Z
DTSTART:20181019T233000Z
DTEND:20181020T013000Z
SUMMARY:"Baby Ready" ante–natal workshop* 20 Oct 2018
GEO:-37.784536;144.98294
LOCATION:Bargoonga Nganjin North Fitzroy Library\, 186 Saint Georges Road\, 
 Fitzroy North\, VIC\, 3068\, Australia
END:VEVENT
END:VCALENDAR
