BEGIN:VCALENDAR
VERSION:2.0
PRODID:-//Squarespace Inc/Squarespace 6//v6//EN
BEGIN:VEVENT
UID:5cbc8d9b0d9297107cdfe31a@squarespace.com
DTSTAMP:20190425T141923Z
DTSTART:20190601T003000Z
DTEND:20190601T023000Z
SUMMARY:"Baby Ready" ante–natal workshop* 01 June 2019
GEO:-37.784536;144.98294
LOCATION:Bargoonga Nganjin North Fitzroy Library\, 186 Saint Georges Road\, 
 Fitzroy North\, VIC\, 3068\, Australia
END:VEVENT
END:VCALENDAR
