BEGIN:VCALENDAR
VERSION:2.0
PRODID:-//Squarespace Inc/Squarespace 6//v6//EN
BEGIN:VEVENT
UID:5cbc8df8038c490001988191@squarespace.com
DTSTAMP:20200201T113944Z
DTSTART:20190907T003000Z
DTEND:20190907T023000Z
SUMMARY:"Baby Ready" ante–natal workshop* 07 Sept 2019
GEO:-37.784536;144.98294
LOCATION:Bargoonga Nganjin North Fitzroy Library\, 186 Saint Georges Road\, 
 Fitzroy North\, VIC\, 3068\, Australia
END:VEVENT
END:VCALENDAR
