BEGIN:VCALENDAR
VERSION:2.0
PRODID:-//Squarespace Inc/Squarespace 6//v6//EN
BEGIN:VEVENT
UID:5e3563806ce96b4a79fc8bee@squarespace.com
DTSTAMP:20200201T115142Z
DTSTART:20200207T233000Z
DTEND:20200208T013000Z
SUMMARY:"Baby Ready" ante–natal workshop* 08 Feb 2020
GEO:-37.784536;144.98294
LOCATION:Bargoonga Nganjin North Fitzroy Library\, 186 Saint Georges Road\, 
 Fitzroy North\, VIC\, 3068\, Australia
END:VEVENT
END:VCALENDAR
