BEGIN:VCALENDAR
VERSION:2.0
PRODID:-//Squarespace Inc/Squarespace 6//v6//EN
BEGIN:VEVENT
UID:5b2c724988251ba6c1460ba2@squarespace.com
DTSTAMP:20180622T035227Z
DTSTART:20180818T003000Z
DTEND:20180818T023000Z
SUMMARY:"Baby Ready" ante–natal workshop* 18 August 2018
GEO:-37.784536;144.98294
LOCATION:Bargoonga Nganjin North Fitzroy Library\, 186 Saint Georges Road\, 
 Fitzroy North\, VIC\, 3068\, Australia
END:VEVENT
END:VCALENDAR
