BEGIN:VCALENDAR
VERSION:2.0
PRODID:-//Squarespace Inc/Squarespace 6//v6//EN
BEGIN:VEVENT
UID:5939f86fdb29d6ec60925cce@squarespace.com
DTSTAMP:20170613T061207Z
DTSTART:20170730T000000Z
DTEND:20170730T020000Z
SUMMARY:"Baby Steady" workshop (birth – 3 months)
GEO:-37.815203;144.986371
LOCATION:East Melbourne Library\, 122 George Street\, East Melbourne\, VIC\
 , 3002\, Australia
END:VEVENT
END:VCALENDAR
