BEGIN:VCALENDAR
VERSION:2.0
PRODID:-//Squarespace Inc/Squarespace 6//v6//EN
BEGIN:VEVENT
UID:5939fcb0e3df28fc709e9cf1@squarespace.com
DTSTAMP:20171025T223456Z
DTSTART:20171027T233000Z
DTEND:20171028T013000Z
SUMMARY:"Baby Steady" workshop (birth – 3 months)*
GEO:-37.784536;144.98294
LOCATION:Bargoonga Nganjin – Fitzroy North Library\, 186 Saint Georges Road
 \, Fitzroy North\, VIC\, 3068\, Australia
END:VEVENT
END:VCALENDAR
