BEGIN:VCALENDAR
VERSION:2.0
PRODID:-//Squarespace Inc/Squarespace 6//v6//EN
BEGIN:VEVENT
UID:5a17949be4966b13429941f7@squarespace.com
DTSTAMP:20171124T034142Z
DTSTART:20171208T233000Z
DTEND:20171209T013000Z
SUMMARY:"Baby Steady" workshop (birth – 3 months)*
GEO:-37.784536;144.98294
LOCATION:Bargoonga Nganjin – Fitzroy North Library\, 186 Saint Georges Road
 \, Fitzroy North\, VIC\, 3068\, Australia
END:VEVENT
END:VCALENDAR
