BEGIN:VCALENDAR
VERSION:2.0
PRODID:-//Squarespace Inc/Squarespace 6//v6//EN
BEGIN:VEVENT
UID:5a37b3bc652dea7bc22890ba@squarespace.com
DTSTAMP:20180204T033039Z
DTSTART:20180302T233000Z
DTEND:20180303T013000Z
SUMMARY:"Baby Steady" workshop (birth – 3 months)*
GEO:-37.784536;144.98294
LOCATION:Bargoonga Nganjin – Fitzroy North Library\, 186 Saint Georges Road
 \, Fitzroy North\, VIC\, 3068\, Australia
END:VEVENT
END:VCALENDAR
