BEGIN:VCALENDAR
VERSION:2.0
PRODID:-//Squarespace Inc/Squarespace 6//v6//EN
BEGIN:VEVENT
UID:5a769ea3419202f8d94da01a@squarespace.com
DTSTAMP:20180204T054951Z
DTSTART:20180623T003000Z
DTEND:20180623T023000Z
SUMMARY:"Baby Steady" workshop (birth – 3 months)* 23 June 2018
GEO:-37.784536;144.98294
LOCATION:Bargoonga Nganjin – Fitzroy North Library\, 186 Saint Georges Road
 \, Fitzroy North\, VIC\, 3068\, Australia
END:VEVENT
END:VCALENDAR
