BEGIN:VCALENDAR
VERSION:2.0
PRODID:-//Squarespace Inc/Squarespace 6//v6//EN
BEGIN:VEVENT
UID:5a76a0968165f51a3421d5f9@squarespace.com
DTSTAMP:20190125T011052Z
DTSTART:20181123T233000Z
DTEND:20181124T013000Z
SUMMARY:"Baby Steady" workshop (birth – 3 months)* 24 Nov 2018
GEO:-37.784536;144.98294
LOCATION:Bargoonga Nganjin – Fitzroy North Library\, 186 Saint Georges Road
 \, Fitzroy North\, VIC\, 3068\, Australia
END:VEVENT
END:VCALENDAR
