BEGIN:VCALENDAR
VERSION:2.0
PRODID:-//Squarespace Inc/Squarespace 6//v6//EN
BEGIN:VEVENT
UID:5bf8a7456d2a73887b76a5e8@squarespace.com
DTSTAMP:20181124T033245Z
DTSTART:20181215T023000Z
DTEND:20181215T043000Z
SUMMARY:"Baby Steady" workshop (birth – 3 months)* 15 Dec 2018
GEO:-37.784536;144.98294
LOCATION:Bargoonga Nganjin – Fitzroy North Library\, 186 Saint Georges Road
 \, Fitzroy North\, VIC\, 3068\, Australia
END:VEVENT
END:VCALENDAR
