BEGIN:VCALENDAR
VERSION:2.0
PRODID:-//Squarespace Inc/Squarespace 6//v6//EN
BEGIN:VEVENT
UID:5c4a621d42bfc177cecb0f16@squarespace.com
DTSTAMP:20190421T154417Z
DTSTART:20190405T233000Z
DTEND:20190406T013000Z
SUMMARY:"Baby Steady" workshop (birth – 3 months)* 06 Apr 2019
GEO:-37.784536;144.98294
LOCATION:Bargoonga Nganjin – Fitzroy North Library\, 186 Saint Georges Road
 \, Fitzroy North\, VIC\, 3068\, Australia
END:VEVENT
END:VCALENDAR
