BEGIN:VCALENDAR
VERSION:2.0
PRODID:-//Squarespace Inc/Squarespace 6//v6//EN
BEGIN:VEVENT
UID:5cbc913b71c10bef5b0c6125@squarespace.com
DTSTAMP:20201116T234335Z
DTSTART:20191129T233000Z
DTEND:20191130T013000Z
SUMMARY:"Baby Steady" workshop (newborn to ~3 months)* 30 Nov 2019
GEO:-37.784536;144.98294
LOCATION:Bargoonga Nganjin – Fitzroy North Library\, 186 Saint Georges Road
 \, Fitzroy North\, VIC\, 3068\, Australia
END:VEVENT
END:VCALENDAR
