BEGIN:VCALENDAR
VERSION:2.0
PRODID:-//Squarespace Inc/Squarespace 6//v6//EN
BEGIN:VEVENT
UID:5fb30ea7e54df854582b7b78@squarespace.com
DTSTAMP:20201203T224633Z
DTSTART:20201211T233000Z
DTEND:20201212T013000Z
SUMMARY:**NEW** 2 hr INTENSIVE—Baby development workshop
GEO:-37.82362;145.035342
LOCATION:Offspring Child Health Specialists\, 614 Glenferrie Road\, Hawthor
 n\, VIC\, 3122\, Australia
END:VEVENT
END:VCALENDAR
