BEGIN:VCALENDAR
VERSION:2.0
PRODID:-//Squarespace Inc/Squarespace 6//v6//EN
BEGIN:VEVENT
UID:5cbc8fd28165f5edb828032f@squarespace.com
DTSTAMP:20190425T142042Z
DTSTART:20190803T003000Z
DTEND:20190803T023000Z
SUMMARY:"Baby Steady" workshop (newborn to ~3 months)* 03 August 2019
GEO:-37.784536;144.98294
LOCATION:Bargoonga Nganjin – Fitzroy North Library\, 186 Saint Georges Road
 \, Fitzroy North\, VIC\, 3068\, Australia
END:VEVENT
END:VCALENDAR
