BEGIN:VCALENDAR
VERSION:2.0
PRODID:-//Squarespace Inc/Squarespace 6//v6//EN
BEGIN:VEVENT
UID:5923d28f6b8f5bdd0a3ce60a@squarespace.com
DTSTAMP:20170523T061629Z
DTSTART:20170504T090000Z
DTEND:20170504T110000Z
SUMMARY:"Baby Ready" ante–natal workshop
GEO:-37.797956;144.942018
LOCATION:Shinbone Medical\, 2/96 Macaulay Road\, North Melbourne\, VIC\, 30
 51\, Australia
END:VEVENT
END:VCALENDAR
