BEGIN:VCALENDAR
VERSION:2.0
PRODID:-//Squarespace Inc/Squarespace 6//v6//EN
BEGIN:VEVENT
UID:5923cd8a1b10e3c3a8ab85e9@squarespace.com
DTSTAMP:20170523T061035Z
DTSTART:20170330T080000Z
DTEND:20170330T100000Z
SUMMARY:"Baby Ready" ante-natal workshop
GEO:-37.815203;144.986371
LOCATION:East Melbourne Library\, 122 George Street\, East Melbourne\, VIC\
 , 3002\, Australia
END:VEVENT
END:VCALENDAR
